BEGIN:VCALENDAR
VERSION:2.0
PRODID:-//Sabre//Sabre VObject 4.5.8//EN
CALSCALE:GREGORIAN
BEGIN:VTIMEZONE
TZID:Europe/Zurich
X-LIC-LOCATION:Europe/Zurich
TZURL:http://tzurl.org/zoneinfo/Europe/Zurich
BEGIN:DAYLIGHT
TZOFFSETFROM:+0100
TZOFFSETTO:+0200
TZNAME:CEST
DTSTART:19810329T020000
RRULE:FREQ=YEARLY;BYMONTH=3;BYDAY=-1SU
END:DAYLIGHT
BEGIN:STANDARD
TZOFFSETFROM:+0200
TZOFFSETTO:+0100
TZNAME:CET
DTSTART:19961027T030000
RRULE:FREQ=YEARLY;BYMONTH=10;BYDAY=-1SU
END:STANDARD
END:VTIMEZONE
BEGIN:VEVENT
UID:news1693@biomedizin.unibas.ch
DTSTAMP;TZID=Europe/Zurich:20260407T103949
DTSTART;TZID=Europe/Zurich:20260416T170000
SUMMARY:Athena's Journey
DESCRIPTION:As always\, the event will be followed by an Apéro\, providing
  a great opportunity to network and continue the conversation in a relaxed
  setting.
X-ALT-DESC:<p>As always\, the event will be followed by an Apéro\, providi
 ng a great opportunity to network and continue the conversation in a relax
 ed setting.</p>
DTEND;TZID=Europe/Zurich:20260416T180000
END:VEVENT
END:VCALENDAR
