BEGIN:VCALENDAR
VERSION:2.0
PRODID:-//Sabre//Sabre VObject 4.5.8//EN
CALSCALE:GREGORIAN
BEGIN:VTIMEZONE
TZID:Europe/Zurich
X-LIC-LOCATION:Europe/Zurich
TZURL:http://tzurl.org/zoneinfo/Europe/Zurich
BEGIN:DAYLIGHT
TZOFFSETFROM:+0100
TZOFFSETTO:+0200
TZNAME:CEST
DTSTART:19810329T020000
RRULE:FREQ=YEARLY;BYMONTH=3;BYDAY=-1SU
END:DAYLIGHT
BEGIN:STANDARD
TZOFFSETFROM:+0200
TZOFFSETTO:+0100
TZNAME:CET
DTSTART:19961027T030000
RRULE:FREQ=YEARLY;BYMONTH=10;BYDAY=-1SU
END:STANDARD
END:VTIMEZONE
BEGIN:VEVENT
UID:news1706@biomedizin.unibas.ch
DTSTAMP;TZID=Europe/Zurich:20260413T144039
DTSTART;TZID=Europe/Zurich:20260421T123000
SUMMARY:FARO Special Lecture
DESCRIPTION:“Modeling Tissue Morphogenesis — Principles from Developmen
 t with Relevance for Cancer” \\r\\nDagmar Iber studied mathematics and 
 biochemistry in Regensburg\, Cambridge\, and Oxford. She holds Master degr
 ees and PhDs in both disciplines. After three years as a Junior Research F
 ellow in St John’s College\, Oxford\, Dagmar became a lecturer in Applie
 d Mathematics at Imperial College London. Dagmar has joined ETH Zurich in 
 2008 after returning from an investment bank where she worked as an oil op
 tion trader for one year.Dagmar Iber’s group develops data-based\, predi
 ctive models to understand the spatio-temporal dynamics of signalingnetwor
 ks. Close collaborations with experimental laboratories permit a cycle of 
 model testing and improving. Her recent work focuses on mouse organogenesi
 s (limb and brain development\, lung and kidney branching morphogenesis) a
 nd simpler patterning systems to address more fundamental questions regard
 ing the control of organ growth and the robustness of signaling mechanisms
  to evolutionary change.
X-ALT-DESC:<p>“Modeling Tissue Morphogenesis — Principles from Developm
 ent with Relevance for Cancer”<br />&nbsp\;</p>\n<p>Dagmar Iber studied 
 mathematics and biochemistry in Regensburg\, Cambridge\, and Oxford. She h
 olds Master degrees and PhDs in both disciplines. After three years as a J
 unior Research Fellow in St John’s College\, Oxford\, Dagmar became a le
 cturer in Applied Mathematics at Imperial College London. Dagmar has joine
 d ETH Zurich in 2008 after returning from an investment bank where she wor
 ked as an oil option trader for one year.<br />Dagmar Iber’s group devel
 ops data-based\, predictive models to understand the spatio-temporal dynam
 ics of signaling<br />networks. Close collaborations with experimental lab
 oratories permit a cycle of model testing and improving. Her recent work f
 ocuses on mouse organogenesis (limb and brain development\, lung and kidne
 y branching morphogenesis) and simpler patterning systems to address more 
 fundamental questions regarding the control of organ growth and the robust
 ness of signaling mechanisms to evolutionary change.</p>
DTEND;TZID=Europe/Zurich:20260421T133000
END:VEVENT
END:VCALENDAR
