BEGIN:VCALENDAR
VERSION:2.0
PRODID:-//Sabre//Sabre VObject 4.5.8//EN
CALSCALE:GREGORIAN
BEGIN:VTIMEZONE
TZID:Europe/Zurich
X-LIC-LOCATION:Europe/Zurich
TZURL:http://tzurl.org/zoneinfo/Europe/Zurich
BEGIN:DAYLIGHT
TZOFFSETFROM:+0100
TZOFFSETTO:+0200
TZNAME:CEST
DTSTART:19810329T020000
RRULE:FREQ=YEARLY;BYMONTH=3;BYDAY=-1SU
END:DAYLIGHT
BEGIN:STANDARD
TZOFFSETFROM:+0200
TZOFFSETTO:+0100
TZNAME:CET
DTSTART:19961027T030000
RRULE:FREQ=YEARLY;BYMONTH=10;BYDAY=-1SU
END:STANDARD
END:VTIMEZONE
BEGIN:VEVENT
UID:news1542@biomedizin.unibas.ch
DTSTAMP;TZID=Europe/Zurich:20251001T110240
DTSTART;TZID=Europe/Zurich:20251008T161500
SUMMARY:Advanced Immunology I
DESCRIPTION:Christopher A. Hunter – University of Pennsylvania School of 
 Veterinary medicine – via Zoom From parasites to mRNA vaccines - immune 
 evasion and immunoregulation 
X-ALT-DESC:<p>Christopher A. Hunter – University of Pennsylvania School o
 f Veterinary medicine – via Zoom<br /> From parasites to mRNA vaccines -
  immune evasion and immunoregulation&nbsp\;</p>
DTEND;TZID=Europe/Zurich:20251008T170000
END:VEVENT
END:VCALENDAR
