BEGIN:VCALENDAR
VERSION:2.0
PRODID:-//Sabre//Sabre VObject 4.5.8//EN
CALSCALE:GREGORIAN
BEGIN:VTIMEZONE
TZID:Europe/Zurich
X-LIC-LOCATION:Europe/Zurich
TZURL:http://tzurl.org/zoneinfo/Europe/Zurich
BEGIN:DAYLIGHT
TZOFFSETFROM:+0100
TZOFFSETTO:+0200
TZNAME:CEST
DTSTART:19810329T020000
RRULE:FREQ=YEARLY;BYMONTH=3;BYDAY=-1SU
END:DAYLIGHT
BEGIN:STANDARD
TZOFFSETFROM:+0200
TZOFFSETTO:+0100
TZNAME:CET
DTSTART:19961027T030000
RRULE:FREQ=YEARLY;BYMONTH=10;BYDAY=-1SU
END:STANDARD
END:VTIMEZONE
BEGIN:VEVENT
UID:news816@biomedizin.unibas.ch
DTSTAMP;TZID=Europe/Zurich:20211028T145623
DTSTART;TZID=Europe/Zurich:20211102T143000
SUMMARY:PhD Defense
DESCRIPTION:Study of variables determining the engraftment and homing of hu
 man acute myeloid leukemia samples in the NSG mouse model
X-ALT-DESC:<p>Study of variables determining the engraftment and homing of 
 human acute myeloid leukemia samples in the NSG mouse model</p>
DTEND;TZID=Europe/Zurich:20211102T150000
END:VEVENT
END:VCALENDAR
