BEGIN:VCALENDAR
VERSION:2.0
PRODID:-//Sabre//Sabre VObject 4.5.8//EN
CALSCALE:GREGORIAN
BEGIN:VTIMEZONE
TZID:Europe/Zurich
X-LIC-LOCATION:Europe/Zurich
TZURL:http://tzurl.org/zoneinfo/Europe/Zurich
BEGIN:DAYLIGHT
TZOFFSETFROM:+0100
TZOFFSETTO:+0200
TZNAME:CEST
DTSTART:19810329T020000
RRULE:FREQ=YEARLY;BYMONTH=3;BYDAY=-1SU
END:DAYLIGHT
BEGIN:STANDARD
TZOFFSETFROM:+0200
TZOFFSETTO:+0100
TZNAME:CET
DTSTART:19961027T030000
RRULE:FREQ=YEARLY;BYMONTH=10;BYDAY=-1SU
END:STANDARD
END:VTIMEZONE
BEGIN:VEVENT
UID:news1708@biomedizin.unibas.ch
DTSTAMP;TZID=Europe/Zurich:20260414T173449
DTSTART;TZID=Europe/Zurich:20260429T150000
SUMMARY:PhD Defense
DESCRIPTION:The defense will include a public presentation (~30 min) follow
 ed by a closed examination. Afterwards\, there will be an apéro outside t
 he ZLF building (if it’s sunny) or in the ZLF 2nd floor coffee room.
X-ALT-DESC:<p>The defense will include a public presentation (~30 min) foll
 owed by a closed examination. Afterwards\, there will be an apéro outside
  the ZLF building (if it’s sunny) or in the ZLF 2nd floor coffee room.</
 p>
DTEND;TZID=Europe/Zurich:20260429T163000
END:VEVENT
END:VCALENDAR
