BEGIN:VCALENDAR
VERSION:2.0
PRODID:-//Sabre//Sabre VObject 4.5.8//EN
CALSCALE:GREGORIAN
BEGIN:VTIMEZONE
TZID:Europe/Zurich
X-LIC-LOCATION:Europe/Zurich
TZURL:http://tzurl.org/zoneinfo/Europe/Zurich
BEGIN:DAYLIGHT
TZOFFSETFROM:+0100
TZOFFSETTO:+0200
TZNAME:CEST
DTSTART:19810329T020000
RRULE:FREQ=YEARLY;BYMONTH=3;BYDAY=-1SU
END:DAYLIGHT
BEGIN:STANDARD
TZOFFSETFROM:+0200
TZOFFSETTO:+0100
TZNAME:CET
DTSTART:19961027T030000
RRULE:FREQ=YEARLY;BYMONTH=10;BYDAY=-1SU
END:STANDARD
END:VTIMEZONE
BEGIN:VEVENT
UID:news1619@biomedizin.unibas.ch
DTSTAMP;TZID=Europe/Zurich:20260327T104820
DTSTART;TZID=Europe/Zurich:20260414T121500
SUMMARY:FARO Seminar in Oncology
DESCRIPTION:1. Maryam Akrami: "Propionate Preserves CD8⁺ T-Cell Fitness a
 nd Augments Antitumor Immunity"\\r\\n2. Romuald Parmentier: “A modular p
 atient-derived organoid-xenograft platform reveals molecular and clinical 
 trajectories of prostate cancer progression”
X-ALT-DESC:<p>1. Maryam Akrami: "Propionate Preserves CD8⁺ T-Cell Fitness
  and Augments Antitumor Immunity"</p>\n<p>2. Romuald Parmentier: “A modu
 lar patient-derived organoid-xenograft platform reveals molecular and clin
 ical trajectories of prostate cancer progression”</p>\n\n
DTEND;TZID=Europe/Zurich:20260414T131500
END:VEVENT
END:VCALENDAR
