BEGIN:VCALENDAR
VERSION:2.0
PRODID:-//Sabre//Sabre VObject 4.5.8//EN
CALSCALE:GREGORIAN
BEGIN:VTIMEZONE
TZID:Europe/Zurich
X-LIC-LOCATION:Europe/Zurich
TZURL:http://tzurl.org/zoneinfo/Europe/Zurich
BEGIN:DAYLIGHT
TZOFFSETFROM:+0100
TZOFFSETTO:+0200
TZNAME:CEST
DTSTART:19810329T020000
RRULE:FREQ=YEARLY;BYMONTH=3;BYDAY=-1SU
END:DAYLIGHT
BEGIN:STANDARD
TZOFFSETFROM:+0200
TZOFFSETTO:+0100
TZNAME:CET
DTSTART:19961027T030000
RRULE:FREQ=YEARLY;BYMONTH=10;BYDAY=-1SU
END:STANDARD
END:VTIMEZONE
BEGIN:VEVENT
UID:news1675@biomedizin.unibas.ch
DTSTAMP;TZID=Europe/Zurich:20260305T093919
DTSTART;TZID=Europe/Zurich:20260410T121500
SUMMARY:Genetic Approaches in Biomedical Research
DESCRIPTION:From Genetic Mechanism to Clinical Intervention: Restoring GABA
 ergic Tone in Angelman and Dup15q Syndromes
X-ALT-DESC:<p>From Genetic Mechanism to Clinical Intervention: Restoring GA
 BAergic Tone in Angelman and Dup15q Syndromes</p>
DTEND;TZID=Europe/Zurich:20260410T131500
END:VEVENT
END:VCALENDAR
